BEGIN:VCALENDAR
VERSION:2.0
PRODID:-//jEvents 2.0 for Joomla//EN
CALSCALE:GREGORIAN
METHOD:PUBLISH
BEGIN:VEVENT
UID:e83ebbc1f46fd019f37b4fa45b25cfe3
CATEGORIES:Veranstaltungen
CREATED:20250904T114638
SUMMARY:Wahl der Schulsprecher:Innen HLW
DESCRIPTION:
DTSTAMP:20260425T185643
DTSTART:20251006T060000
DTEND:20251006T100000
SEQUENCE:0
TRANSP:OPAQUE
END:VEVENT
END:VCALENDAR