BEGIN:VCALENDAR
VERSION:2.0
PRODID:-//jEvents 2.0 for Joomla//EN
CALSCALE:GREGORIAN
METHOD:PUBLISH
BEGIN:VEVENT
UID:49ba8b9f02652470f32b9fb99c6c0146
CATEGORIES:Veranstaltungen
CREATED:20250904T113523
SUMMARY:Beginn unserer Fremdsprachenassistentin Maria Giovanna DÀndretta
DESCRIPTION:
DTSTAMP:20260425T185645
DTSTART:20251001T060000
DTEND:20251001T150000
SEQUENCE:0
TRANSP:OPAQUE
END:VEVENT
END:VCALENDAR