BEGIN:VCALENDAR
VERSION:2.0
PRODID:-//jEvents 2.0 for Joomla//EN
CALSCALE:GREGORIAN
METHOD:PUBLISH
BEGIN:VEVENT
UID:40e44feb3e23d876f3803320326a614b
CATEGORIES:Veranstaltungen
CREATED:20250904T113329
SUMMARY:Schulsprecher:Innenwahl HAK/HTL
DESCRIPTION:
DTSTAMP:20260425T204011
DTSTART:20250924T060000
DTEND:20250924T100000
SEQUENCE:0
TRANSP:OPAQUE
END:VEVENT
END:VCALENDAR