BEGIN:VCALENDAR
VERSION:2.0
PRODID:-//jEvents 2.0 for Joomla//EN
CALSCALE:GREGORIAN
METHOD:PUBLISH
BEGIN:VEVENT
UID:53844c76195481f96424b3b57296cdea
CATEGORIES:Veranstaltungen
CREATED:20250904T113234
SUMMARY:Lehrervertreter:Innenwahlen für den Schulgemeinschaftsausschuss
DESCRIPTION:
DTSTAMP:20260425T204041
DTSTART:20250924T060000
DTEND:20250924T100000
SEQUENCE:0
TRANSP:OPAQUE
END:VEVENT
END:VCALENDAR