BEGIN:VCALENDAR
VERSION:2.0
PRODID:-//jEvents 2.0 for Joomla//EN
CALSCALE:GREGORIAN
METHOD:PUBLISH
BEGIN:VEVENT
UID:87771114324fe3e358140a1952b94a00
CATEGORIES:Veranstaltungen
CREATED:20250904T113043
SUMMARY:1.Nebentermin BFK/ABR Reife- und Diplomprüfung 2024/25
DESCRIPTION:
DTSTAMP:20260425T222411
DTSTART:20250922T060000
DTEND:20250922T120000
SEQUENCE:0
TRANSP:OPAQUE
END:VEVENT
END:VCALENDAR