BEGIN:VCALENDAR
VERSION:2.0
PRODID:-//jEvents 2.0 for Joomla//EN
CALSCALE:GREGORIAN
METHOD:PUBLISH
BEGIN:VEVENT
UID:1cc66f2110a6a7e8117a29168be5547f
CATEGORIES:Veranstaltungen
CREATED:20250904T112926
SUMMARY:Rotarylauf - Autofreier Tag
DESCRIPTION:
DTSTAMP:20260425T204502
DTSTART:20250919T153000
DTEND:20250919T170000
SEQUENCE:0
TRANSP:OPAQUE
END:VEVENT
END:VCALENDAR