BEGIN:VCALENDAR
VERSION:2.0
PRODID:-//jEvents 2.0 for Joomla//EN
CALSCALE:GREGORIAN
METHOD:PUBLISH
BEGIN:VEVENT
UID:ba75eee035e1d7a107f423701db8caff
CATEGORIES:Veranstaltungen
CREATED:20250904T112830
SUMMARY:1.Nebentermin Englisch Reife- und Diplomprüfung 2024/25
DESCRIPTION:
DTSTAMP:20260425T210825
DTSTART:20250918T060000
DTEND:20250918T120000
SEQUENCE:0
TRANSP:OPAQUE
END:VEVENT
END:VCALENDAR