BEGIN:VCALENDAR
VERSION:2.0
PRODID:-//jEvents 2.0 for Joomla//EN
CALSCALE:GREGORIAN
METHOD:PUBLISH
BEGIN:VEVENT
UID:72715603e4bdd317e50eda1cf5f42483
CATEGORIES:Veranstaltungen
CREATED:20250904T112755
SUMMARY:1.Nebentermin Deutsch Reife- und Diplomprüfung 2024/25
DESCRIPTION:
DTSTAMP:20260425T204112
DTSTART:20250916T060000
DTEND:20250916T120000
SEQUENCE:0
TRANSP:OPAQUE
END:VEVENT
END:VCALENDAR