BEGIN:VCALENDAR
VERSION:2.0
PRODID:-//jEvents 2.0 for Joomla//EN
CALSCALE:GREGORIAN
METHOD:PUBLISH
BEGIN:VEVENT
UID:fd482c4140c8e84a5dae40a2c2930465
CATEGORIES:Veranstaltungen
CREATED:20250701T153118
SUMMARY:Herbstferien
DESCRIPTION:
DTSTAMP:20260425T185511
DTSTART:20251027T070000
DTEND:20251031T160000
SEQUENCE:0
TRANSP:OPAQUE
END:VEVENT
END:VCALENDAR