BEGIN:VCALENDAR
VERSION:2.0
PRODID:-//jEvents 2.0 for Joomla//EN
CALSCALE:GREGORIAN
METHOD:PUBLISH
BEGIN:VEVENT
UID:b37ed9e37feea95552ef84e7deb20951
CATEGORIES:Veranstaltungen
CREATED:20250701T153042
SUMMARY:Wienwoche 4.HTL-Klasse
DESCRIPTION:
DTSTAMP:20260425T185603
DTSTART:20251005T060000
DTEND:20251010T150000
SEQUENCE:0
TRANSP:OPAQUE
END:VEVENT
END:VCALENDAR