BEGIN:VCALENDAR
VERSION:2.0
PRODID:-//jEvents 2.0 for Joomla//EN
CALSCALE:GREGORIAN
METHOD:PUBLISH
BEGIN:VEVENT
UID:4d1208d13a6c16842101d6ba384438b7
CATEGORIES:Veranstaltungen
CREATED:20250701T153005
SUMMARY:Fototermin mit Foto GMR
DESCRIPTION:
DTSTAMP:20260425T185602
DTSTART:20251009T060000
DTEND:20251010T150000
SEQUENCE:0
TRANSP:OPAQUE
END:VEVENT
END:VCALENDAR