BEGIN:VCALENDAR
VERSION:2.0
PRODID:-//jEvents 2.0 for Joomla//EN
CALSCALE:GREGORIAN
METHOD:PUBLISH
BEGIN:VEVENT
UID:d20b37e91aae6d75b3a39d7d6a698e2a
CATEGORIES:Veranstaltungen
CREATED:20250701T152925
SUMMARY:Projektwoche Klasse 4wa und 4wb
DESCRIPTION:
DTSTAMP:20260425T185607
DTSTART:20251006T060000
DTEND:20251010T150000
SEQUENCE:0
TRANSP:OPAQUE
END:VEVENT
END:VCALENDAR