BEGIN:VCALENDAR
VERSION:2.0
PRODID:-//jEvents 2.0 for Joomla//EN
CALSCALE:GREGORIAN
METHOD:PUBLISH
BEGIN:VEVENT
UID:4dcbd97b2865c45f8b59fa464ce66d9f
CATEGORIES:Veranstaltungen
CREATED:20250701T152849
SUMMARY:Wiederholungsprüfungen Klassen 4wa und 4wb
DESCRIPTION:
DTSTAMP:20260425T185319
DTSTART:20251006T060000
DTEND:20251006T150000
SEQUENCE:0
TRANSP:OPAQUE
END:VEVENT
END:VCALENDAR