BEGIN:VCALENDAR
VERSION:2.0
PRODID:-//jEvents 2.0 for Joomla//EN
CALSCALE:GREGORIAN
METHOD:PUBLISH
BEGIN:VEVENT
UID:b56044f18024c9409a0356105acd15ed
CATEGORIES:Veranstaltungen
CREATED:20250701T152816
SUMMARY:Schulbeginn Klassen 4wa und 4wb
DESCRIPTION:
DTSTAMP:20260425T194628
DTSTART:20251006T060000
DTEND:20251006T120000
SEQUENCE:0
TRANSP:OPAQUE
END:VEVENT
END:VCALENDAR