BEGIN:VCALENDAR
VERSION:2.0
PRODID:-//jEvents 2.0 for Joomla//EN
CALSCALE:GREGORIAN
METHOD:PUBLISH
BEGIN:VEVENT
UID:4a129ef41a90d65887a008b31619a1dd
CATEGORIES:Veranstaltungen
CREATED:20250701T152735
SUMMARY:Ball HAK/HTL/HLW in der Ehrenberger Klause
DESCRIPTION:
DTSTAMP:20260425T195030
DTSTART:20251003T060000
DTEND:20251004T210000
SEQUENCE:0
TRANSP:OPAQUE
END:VEVENT
END:VCALENDAR