BEGIN:VCALENDAR
VERSION:2.0
PRODID:-//jEvents 2.0 for Joomla//EN
CALSCALE:GREGORIAN
METHOD:PUBLISH
BEGIN:VEVENT
UID:a99969646a713c5677a6dec79a902088
CATEGORIES:Veranstaltungen
CREATED:20250701T152601
SUMMARY:Wiederholungsprüfungen
DESCRIPTION:
DTSTAMP:20260425T204456
DTSTART:20250908T060000
DTEND:20250908T150000
SEQUENCE:0
TRANSP:OPAQUE
END:VEVENT
END:VCALENDAR