BEGIN:VCALENDAR
VERSION:2.0
PRODID:-//jEvents 2.0 for Joomla//EN
CALSCALE:GREGORIAN
METHOD:PUBLISH
BEGIN:VEVENT
UID:3048be38425b13a7f67b1e8018c8a22e
CATEGORIES:Veranstaltungen
CREATED:20250701T152536
SUMMARY:Eröffnungskonferenz in der Ausweichklasse HAK
DESCRIPTION:
DTSTAMP:20260425T204041
DTSTART:20250910T120000
DTEND:20250910T140000
SEQUENCE:0
TRANSP:OPAQUE
END:VEVENT
END:VCALENDAR