BEGIN:VCALENDAR
VERSION:2.0
PRODID:-//jEvents 2.0 for Joomla//EN
CALSCALE:GREGORIAN
METHOD:PUBLISH
BEGIN:VEVENT
UID:4a9f036da5c6d797afb3e87913967386
CATEGORIES:Veranstaltungen
CREATED:20250701T152456
SUMMARY:Eröffnungsgottesdienst in der St.Anna Kirche in Reutte
DESCRIPTION:
DTSTAMP:20260425T204043
DTSTART:20250910T060000
DTEND:20250910T070000
SEQUENCE:0
TRANSP:OPAQUE
END:VEVENT
END:VCALENDAR