BEGIN:VCALENDAR
VERSION:2.0
PRODID:-//jEvents 2.0 for Joomla//EN
CALSCALE:GREGORIAN
METHOD:PUBLISH
BEGIN:VEVENT
UID:7b6dc740c70440a7af604ef56597b86b
CATEGORIES:Veranstaltungen
CREATED:20250701T152425
SUMMARY:Besprechung mit den Neulehrer:Innen
DESCRIPTION:
DTSTAMP:20260425T204044
DTSTART:20250908T120000
DTEND:20250908T140000
SEQUENCE:0
TRANSP:OPAQUE
END:VEVENT
END:VCALENDAR