BEGIN:VCALENDAR
VERSION:2.0
PRODID:-//jEvents 2.0 for Joomla//EN
CALSCALE:GREGORIAN
METHOD:PUBLISH
BEGIN:VEVENT
UID:3ad0b4971e848581efbec3b52c0ae235
CATEGORIES:Veranstaltungen
CREATED:20250408T080700
SUMMARY:Elternsprechtag
DESCRIPTION:
DTSTAMP:20260425T133832
DTSTART:20250424T143000
DTEND:20250424T173000
SEQUENCE:0
TRANSP:OPAQUE
END:VEVENT
END:VCALENDAR