BEGIN:VCALENDAR
VERSION:2.0
PRODID:-//jEvents 2.0 for Joomla//EN
CALSCALE:GREGORIAN
METHOD:PUBLISH
BEGIN:VEVENT
UID:bc0e14ef4304e0199c1980fbe9e3f06d
CATEGORIES:Veranstaltungen
CREATED:20250305T103659
SUMMARY:Maturafeier 5.HLW
DESCRIPTION:
DTSTAMP:20260425T171522
DTSTART:20250618T153000
DTEND:20250618T170000
SEQUENCE:0
TRANSP:OPAQUE
END:VEVENT
END:VCALENDAR