BEGIN:VCALENDAR
VERSION:2.0
PRODID:-//jEvents 2.0 for Joomla//EN
CALSCALE:GREGORIAN
METHOD:PUBLISH
BEGIN:VEVENT
UID:2e30f0ca5a8038526323ac2f2c12dd5a
CATEGORIES:Veranstaltungen
CREATED:20250305T103625
SUMMARY:Maturafeier 5.HAK
DESCRIPTION:
DTSTAMP:20260425T171127
DTSTART:20250613T153000
DTEND:20250613T170000
SEQUENCE:0
TRANSP:OPAQUE
END:VEVENT
END:VCALENDAR