BEGIN:VCALENDAR
VERSION:2.0
PRODID:-//jEvents 2.0 for Joomla//EN
CALSCALE:GREGORIAN
METHOD:PUBLISH
BEGIN:VEVENT
UID:ec43bd92b28ae4151469c4af4feca149
CATEGORIES:Veranstaltungen
CREATED:20250305T103231
SUMMARY:Maturafeier der 5.HTL in der Wirtschaftskammer Reutte
DESCRIPTION:
DTSTAMP:20260425T171241
DTSTART:20250606T150000
DTEND:20250606T180000
SEQUENCE:0
TRANSP:OPAQUE
END:VEVENT
END:VCALENDAR