BEGIN:VCALENDAR
VERSION:2.0
PRODID:-//jEvents 2.0 for Joomla//EN
CALSCALE:GREGORIAN
METHOD:PUBLISH
BEGIN:VEVENT
UID:1e6237878aa5f1a9506b8659ee3c027e
CATEGORIES:Veranstaltungen
CREATED:20250305T101523
SUMMARY:Exkursion Yogastudia Reutte 2wa und 2wb
DESCRIPTION:
DTSTAMP:20260425T153853
DTSTART:20250403T060000
DTEND:20250403T084000
SEQUENCE:0
TRANSP:OPAQUE
END:VEVENT
END:VCALENDAR