BEGIN:VCALENDAR
VERSION:2.0
PRODID:-//jEvents 2.0 for Joomla//EN
CALSCALE:GREGORIAN
METHOD:PUBLISH
BEGIN:VEVENT
UID:e1f34d90d11f7635b8ce99d2431ee0f6
CATEGORIES:Veranstaltungen
CREATED:20250305T100328
SUMMARY:Workshop Lebensmittelverschwendung 2wa,2wb
DESCRIPTION:
DTSTAMP:20260425T152827
DTSTART:20250327T132500
DTEND:20250327T150500
SEQUENCE:0
TRANSP:OPAQUE
END:VEVENT
END:VCALENDAR