BEGIN:VCALENDAR
VERSION:2.0
PRODID:-//jEvents 2.0 for Joomla//EN
CALSCALE:GREGORIAN
METHOD:PUBLISH
BEGIN:VEVENT
UID:74207c3f3100c36b792701b7503edd92
CATEGORIES:Veranstaltungen
CREATED:20250305T100243
SUMMARY:Workshop Lebensmittelverschwendung 4wa,4wb
DESCRIPTION:
DTSTAMP:20260425T152635
DTSTART:20250327T070000
DTEND:20250327T084500
SEQUENCE:0
TRANSP:OPAQUE
END:VEVENT
END:VCALENDAR