BEGIN:VCALENDAR
VERSION:2.0
PRODID:-//jEvents 2.0 for Joomla//EN
CALSCALE:GREGORIAN
METHOD:PUBLISH
BEGIN:VEVENT
UID:42f387b366dbf439014ba08d24eb4e06
CATEGORIES:Veranstaltungen
CREATED:20250305T100059
SUMMARY:Konferenz Diplomarbeiten und ARGE
DESCRIPTION:
DTSTAMP:20260425T154558
DTSTART:20250312T151000
DTEND:20250312T170000
SEQUENCE:0
TRANSP:OPAQUE
END:VEVENT
END:VCALENDAR