BEGIN:VCALENDAR
VERSION:2.0
PRODID:-//jEvents 2.0 for Joomla//EN
CALSCALE:GREGORIAN
METHOD:PUBLISH
BEGIN:VEVENT
UID:0a0251858f5464656de208cdcfdbf18d
CATEGORIES:Veranstaltungen
CREATED:20250206T141801
SUMMARY:Exkursion der Klassen 3wa und 3wb zu Rauch Rankweil
DESCRIPTION:
DTSTAMP:20260425T154026
DTSTART:20250515T060000
DTEND:20250515T150000
SEQUENCE:0
TRANSP:OPAQUE
END:VEVENT
END:VCALENDAR