BEGIN:VCALENDAR
VERSION:2.0
PRODID:-//jEvents 2.0 for Joomla//EN
CALSCALE:GREGORIAN
METHOD:PUBLISH
BEGIN:VEVENT
UID:1b4922799e82a6835b5f99fdff783c11
CATEGORIES:Veranstaltungen
CREATED:20250206T141056
SUMMARY:Exkursion der 4.HTL-Klassen zum MCI Innsbruck
DESCRIPTION:
DTSTAMP:20260425T153812
DTSTART:20250327T070000
DTEND:20250327T130000
SEQUENCE:0
TRANSP:OPAQUE
END:VEVENT
END:VCALENDAR