BEGIN:VCALENDAR
VERSION:2.0
PRODID:-//jEvents 2.0 for Joomla//EN
CALSCALE:GREGORIAN
METHOD:PUBLISH
BEGIN:VEVENT
UID:764994bfff17fcb0c0aa7622a311a290
CATEGORIES:Veranstaltungen
CREATED:20250206T100149
SUMMARY:Vortrag OeNB Basiswissen zu Geldanlagen für die 3. und 4. Klassen
DESCRIPTION:
DTSTAMP:20260425T171316
DTSTART:20250206T075500
DTEND:20250206T114000
SEQUENCE:0
TRANSP:OPAQUE
END:VEVENT
END:VCALENDAR