BEGIN:VCALENDAR
VERSION:2.0
PRODID:-//jEvents 2.0 for Joomla//EN
CALSCALE:GREGORIAN
METHOD:PUBLISH
BEGIN:VEVENT
UID:85930b863d2a97d9d1930b3fd7a91f65
CATEGORIES:Veranstaltungen
CREATED:20250206T095812
SUMMARY:Kick-Off-Veranstaltung für Diplomarbeiten 4HTLa und 4HTLb
DESCRIPTION:
DTSTAMP:20260425T171127
DTSTART:20250224T095500
DTEND:20250224T123500
SEQUENCE:0
TRANSP:OPAQUE
END:VEVENT
END:VCALENDAR