BEGIN:VCALENDAR
VERSION:2.0
PRODID:-//jEvents 2.0 for Joomla//EN
CALSCALE:GREGORIAN
METHOD:PUBLISH
BEGIN:VEVENT
UID:307fb5c648ba938417e56d0e5390527c
CATEGORIES:Veranstaltungen
CREATED:20250206T095717
SUMMARY:Kick-Off-Veranstaltung für Diplomarbeiten 4a,4wa und 4wb
DESCRIPTION:
DTSTAMP:20260425T171333
DTSTART:20250220T095500
DTEND:20250220T123500
SEQUENCE:0
TRANSP:OPAQUE
END:VEVENT
END:VCALENDAR