BEGIN:VCALENDAR
VERSION:2.0
PRODID:-//jEvents 2.0 for Joomla//EN
CALSCALE:GREGORIAN
METHOD:PUBLISH
BEGIN:VEVENT
UID:b3528434110c71a4e2b976b7832ddf0d
CATEGORIES:Veranstaltungen
CREATED:20250108T150525
SUMMARY:Praktische Prüfungen 4wb
DESCRIPTION:
DTSTAMP:20260425T153950
DTSTART:20250519T060000
DTEND:20250523T170000
SEQUENCE:0
TRANSP:OPAQUE
END:VEVENT
END:VCALENDAR