BEGIN:VCALENDAR
VERSION:2.0
PRODID:-//jEvents 2.0 for Joomla//EN
CALSCALE:GREGORIAN
METHOD:PUBLISH
BEGIN:VEVENT
UID:a803a52dc7d397f0ed5c805b566ff804
CATEGORIES:Veranstaltungen
CREATED:20250108T150452
SUMMARY:Praktische Prüfungen 4wa
DESCRIPTION:
DTSTAMP:20260425T154608
DTSTART:20250512T060000
DTEND:20250516T170000
SEQUENCE:0
TRANSP:OPAQUE
END:VEVENT
END:VCALENDAR