BEGIN:VCALENDAR
VERSION:2.0
PRODID:-//jEvents 2.0 for Joomla//EN
CALSCALE:GREGORIAN
METHOD:PUBLISH
BEGIN:VEVENT
UID:a2b34575b34e66892779f08773f5fa12
CATEGORIES:Veranstaltungen
CREATED:20250108T150411
SUMMARY:letzter Schultag 3wa und 3wb
DESCRIPTION:
DTSTAMP:20260425T154408
DTSTART:20250528T060000
DTEND:20250528T150000
SEQUENCE:0
TRANSP:OPAQUE
END:VEVENT
END:VCALENDAR