BEGIN:VCALENDAR
VERSION:2.0
PRODID:-//jEvents 2.0 for Joomla//EN
CALSCALE:GREGORIAN
METHOD:PUBLISH
BEGIN:VEVENT
UID:f8b3a697bfbc59ec70e5523c4d0e9185
CATEGORIES:Veranstaltungen
CREATED:20250108T150346
SUMMARY:Klassenkonferenz 3WB
DESCRIPTION:
DTSTAMP:20260425T154557
DTSTART:20250521T131500
DTEND:20250521T133000
SEQUENCE:0
TRANSP:OPAQUE
END:VEVENT
END:VCALENDAR