BEGIN:VCALENDAR
VERSION:2.0
PRODID:-//jEvents 2.0 for Joomla//EN
CALSCALE:GREGORIAN
METHOD:PUBLISH
BEGIN:VEVENT
UID:d20c90ad0cb8a6bba47fa28a094ea07b
CATEGORIES:Veranstaltungen
CREATED:20250108T150315
SUMMARY:Klassenkonferenz 3WA
DESCRIPTION:
DTSTAMP:20260425T154026
DTSTART:20250521T130000
DTEND:20250521T131500
SEQUENCE:0
TRANSP:OPAQUE
END:VEVENT
END:VCALENDAR