BEGIN:VCALENDAR
VERSION:2.0
PRODID:-//jEvents 2.0 for Joomla//EN
CALSCALE:GREGORIAN
METHOD:PUBLISH
BEGIN:VEVENT
UID:7d46a21fd42a3fdbe7bfd8ac58b771f3
CATEGORIES:Veranstaltungen
CREATED:20250108T150234
SUMMARY:Noteneintragung 3wa und 3wb
DESCRIPTION:
DTSTAMP:20260425T152631
DTSTART:20250521T060000
DTEND:20250521T100000
SEQUENCE:0
TRANSP:OPAQUE
END:VEVENT
END:VCALENDAR