BEGIN:VCALENDAR
VERSION:2.0
PRODID:-//jEvents 2.0 for Joomla//EN
CALSCALE:GREGORIAN
METHOD:PUBLISH
BEGIN:VEVENT
UID:b4cb428d7ec20937702018ed9c23d649
CATEGORIES:Veranstaltungen
CREATED:20250108T150201
SUMMARY:Notenschluss 3wa und 3wb
DESCRIPTION:
DTSTAMP:20260425T152632
DTSTART:20250521T060000
DTEND:20250521T100000
SEQUENCE:0
TRANSP:OPAQUE
END:VEVENT
END:VCALENDAR