BEGIN:VCALENDAR
VERSION:2.0
PRODID:-//jEvents 2.0 for Joomla//EN
CALSCALE:GREGORIAN
METHOD:PUBLISH
BEGIN:VEVENT
UID:cc2d70aaee398e986d66b00bd42ede8b
CATEGORIES:Veranstaltungen
CREATED:20250108T150126
SUMMARY:Mündliche RDP 2024/25 5w
DESCRIPTION:
DTSTAMP:20260425T171656
DTSTART:20250616T060000
DTEND:20250618T150000
SEQUENCE:0
TRANSP:OPAQUE
END:VEVENT
END:VCALENDAR