BEGIN:VCALENDAR
VERSION:2.0
PRODID:-//jEvents 2.0 for Joomla//EN
CALSCALE:GREGORIAN
METHOD:PUBLISH
BEGIN:VEVENT
UID:7d00372e47d37ca167274da30b88262d
CATEGORIES:Veranstaltungen
CREATED:20250108T150033
SUMMARY:Mündliche RDP 2024/25 5h
DESCRIPTION:
DTSTAMP:20260425T171612
DTSTART:20250605T060000
DTEND:20250606T150000
SEQUENCE:0
TRANSP:OPAQUE
END:VEVENT
END:VCALENDAR