BEGIN:VCALENDAR
VERSION:2.0
PRODID:-//jEvents 2.0 for Joomla//EN
CALSCALE:GREGORIAN
METHOD:PUBLISH
BEGIN:VEVENT
UID:fdd034f4de82d5e329c0faf5c1f550ad
CATEGORIES:Veranstaltungen
CREATED:20250108T145903
SUMMARY:Abgabe der mündlichen Aufgaben 5h,5a,5w RDP 2024/25
DESCRIPTION:
DTSTAMP:20260425T171242
DTSTART:20250602T060000
DTEND:20250602T100000
SEQUENCE:0
TRANSP:OPAQUE
END:VEVENT
END:VCALENDAR