BEGIN:VCALENDAR
VERSION:2.0
PRODID:-//jEvents 2.0 for Joomla//EN
CALSCALE:GREGORIAN
METHOD:PUBLISH
BEGIN:VEVENT
UID:2e4f7d58e97b396d8d3d2be696cfe894
CATEGORIES:Veranstaltungen
CREATED:20250108T145756
SUMMARY:Kompensationsprüfungen - standardisierte RDP
DESCRIPTION:
DTSTAMP:20260425T154026
DTSTART:20250527T060000
DTEND:20250528T150000
SEQUENCE:0
TRANSP:OPAQUE
END:VEVENT
END:VCALENDAR