BEGIN:VCALENDAR
VERSION:2.0
PRODID:-//jEvents 2.0 for Joomla//EN
CALSCALE:GREGORIAN
METHOD:PUBLISH
BEGIN:VEVENT
UID:3bee88c6d116ce805c16fa53c744ef7a
CATEGORIES:Veranstaltungen
CREATED:20250108T145724
SUMMARY:Kompensationsprüfungen - nicht standardisierte RDP
DESCRIPTION:
DTSTAMP:20260425T154327
DTSTART:20250526T060000
DTEND:20250526T120000
SEQUENCE:0
TRANSP:OPAQUE
END:VEVENT
END:VCALENDAR