BEGIN:VCALENDAR
VERSION:2.0
PRODID:-//jEvents 2.0 for Joomla//EN
CALSCALE:GREGORIAN
METHOD:PUBLISH
BEGIN:VEVENT
UID:05a8b03966fa3a72b34478000e80aef1
CATEGORIES:Veranstaltungen
CREATED:20250108T145514
SUMMARY:Konferenz der Prüfer:Innen RDP 5W
DESCRIPTION:
DTSTAMP:20260425T153719
DTSTART:20250520T123000
DTEND:20250520T130000
SEQUENCE:0
TRANSP:OPAQUE
END:VEVENT
END:VCALENDAR