BEGIN:VCALENDAR
VERSION:2.0
PRODID:-//jEvents 2.0 for Joomla//EN
CALSCALE:GREGORIAN
METHOD:PUBLISH
BEGIN:VEVENT
UID:2d7424bcb4ac000325091d3f18536080
CATEGORIES:Veranstaltungen
CREATED:20250108T145438
SUMMARY:Konferenz der Prüfer:Innen RDP 5A
DESCRIPTION:
DTSTAMP:20260425T153812
DTSTART:20250520T143000
DTEND:20250520T150000
SEQUENCE:0
TRANSP:OPAQUE
END:VEVENT
END:VCALENDAR