BEGIN:VCALENDAR
VERSION:2.0
PRODID:-//jEvents 2.0 for Joomla//EN
CALSCALE:GREGORIAN
METHOD:PUBLISH
BEGIN:VEVENT
UID:b9e2e12b30ea14b760d1dbb943deeb63
CATEGORIES:Veranstaltungen
CREATED:20250108T145356
SUMMARY:Konferenz der Prüfer:Innen RDP 5AHWII
DESCRIPTION:
DTSTAMP:20260425T153930
DTSTART:20250520T133000
DTEND:20250520T140000
SEQUENCE:0
TRANSP:OPAQUE
END:VEVENT
END:VCALENDAR