BEGIN:VCALENDAR
VERSION:2.0
PRODID:-//jEvents 2.0 for Joomla//EN
CALSCALE:GREGORIAN
METHOD:PUBLISH
BEGIN:VEVENT
UID:3b6cc14217a743d9f0c1b1c96e799cb3
CATEGORIES:Veranstaltungen
CREATED:20250108T145221
SUMMARY:Abgabe korrigierter Arbeiten RDP 
DESCRIPTION:
DTSTAMP:20260425T152502
DTSTART:20250516T060000
DTEND:20250516T100000
SEQUENCE:0
TRANSP:OPAQUE
END:VEVENT
END:VCALENDAR