BEGIN:VCALENDAR
VERSION:2.0
PRODID:-//jEvents 2.0 for Joomla//EN
CALSCALE:GREGORIAN
METHOD:PUBLISH
BEGIN:VEVENT
UID:9b8981ae56887dab28bfc78d1b0b2064
CATEGORIES:Veranstaltungen
CREATED:20250108T145133
SUMMARY:schriftliche RDP Italienisch
DESCRIPTION:
DTSTAMP:20260425T154538
DTSTART:20250514T060000
DTEND:20250514T120000
SEQUENCE:0
TRANSP:OPAQUE
END:VEVENT
END:VCALENDAR