BEGIN:VCALENDAR
VERSION:2.0
PRODID:-//jEvents 2.0 for Joomla//EN
CALSCALE:GREGORIAN
METHOD:PUBLISH
BEGIN:VEVENT
UID:cc9058b7d6058b8b88c86639a4612132
CATEGORIES:Veranstaltungen
CREATED:20250108T145101
SUMMARY:schriftliche RDP Französisch
DESCRIPTION:
DTSTAMP:20260425T152828
DTSTART:20250512T060000
DTEND:20250512T120000
SEQUENCE:0
TRANSP:OPAQUE
END:VEVENT
END:VCALENDAR